BEGIN:VCALENDAR
VERSION:2.0
PRODID:-//Date iCal//NONSGML kigkonsult.se iCalcreator 2.20.2//
METHOD:PUBLISH
X-WR-CALNAME;VALUE=TEXT:Event Calendar
BEGIN:VEVENT
UID:calendar.12913.field_event_date.0@aullwood.audubon.org
DTSTAMP:20210912T065318Z
CREATED:20210831T160451Z
DESCRIPTION:NOTE: These walks meet in the parking lot of the\n  Thursday\, 
 December 16\, 2021 - \n02:00 to 03:30
DTSTART:20211216T070000Z
DTEND:20211216T083000Z
LAST-MODIFIED:20210901T180516Z
LOCATION:1000 Aullwood Road\, Dayton\, Ohio\, 45414\, United States
SUMMARY:Adult Discovery Walk (Members Only)
URL;TYPE=URI:https://aullwood.audubon.org/events/adult-discovery-walk-membe
 rs-only-7
END:VEVENT
END:VCALENDAR
