BEGIN:VCALENDAR
VERSION:2.0
PRODID:-//Date iCal//NONSGML kigkonsult.se iCalcreator 2.20.2//
METHOD:PUBLISH
X-WR-CALNAME;VALUE=TEXT:Event Calendar
BEGIN:VEVENT
UID:calendar.12923.field_event_date.0@aullwood.audubon.org
DTSTAMP:20210912T065235Z
CREATED:20210831T161926Z
DESCRIPTION:Aullwood's facilities\, trails and property will be close\n  Th
 ursday\, November 11\, 2021 - \n18:30 to 18:45
DTSTART:20211111T233000Z
DTEND:20211111T234500Z
LAST-MODIFIED:20210831T162047Z
LOCATION:1000 Aullwood Road\, Dayton\, Ohio\, 45414\, United States
SUMMARY:Aullwood Closed for the Veterans Day Holiday
URL;TYPE=URI:https://aullwood.audubon.org/events/aullwood-closed-veterans-d
 ay-holiday
END:VEVENT
END:VCALENDAR
